BEGIN:VCALENDAR
VERSION:2.0
PRODID:-//ChamberMaster//Event Calendar 2.0//EN
METHOD:PUBLISH
X-PUBLISHED-TTL:P3D
REFRESH-INTERVAL:P3D
CALSCALE:GREGORIAN
BEGIN:VEVENT
DTSTART:20140510T140000Z
DTEND:20140511T220000Z
X-MICROSOFT-CDO-ALLDAYEVENT:FALSE
SUMMARY:International Orangutan Mothers Awareness Day
DESCRIPTION:This Mother's Day weekend\, take a spin on the carousel\, feed the Giraffe's at the Kiwanis Giraffe Encounter\, check out the four African bull elephants at Trails of Africa and so much more. Mother's Day is the perfect time to support and pay tribute to orangutan mothers missing around the world. Keeper chats\, face painting and educational activities will be held in front of the Primate Building for mothers and children of all ages. Create memories that will last a lifetime\, and support this important cause by visiting the Birmingham Zoo this Mother's Day weekend.
X-ALT-DESC;FMTTYPE=text/html:This Mother&#39\;s Day weekend\, take a spin on the carousel\, feed the Giraffe&#39\;s at the Kiwanis Giraffe Encounter\, check out the four African bull elephants at Trails of Africa and so much more. Mother&#39\;s Day is the perfect time to support and pay tribute to orangutan mothers missing around the world. Keeper chats\, face painting and educational activities will be held in front of the Primate Building for mothers and children of all ages. Create memories that will last a lifetime\, and support this important cause by visiting the Birmingham Zoo this Mother&#39\;s Day weekend.
LOCATION:The Birmingham Zoo
UID:e.145.5081
SEQUENCE:3
DTSTAMP:20260423T165455Z
URL:https://business.shelbychamber.org/events/details/international-orangutan-mothers-awareness-day-05-10-2014-5081
END:VEVENT

END:VCALENDAR
