BEGIN:VCALENDAR
VERSION:2.0
PRODID:-//ChamberMaster//Event Calendar 2.0//EN
METHOD:PUBLISH
X-PUBLISHED-TTL:P3D
REFRESH-INTERVAL:P3D
CALSCALE:GREGORIAN
BEGIN:VEVENT
DTSTART:20151204T000000Z
DTEND:20151204T013000Z
X-MICROSOFT-CDO-ALLDAYEVENT:FALSE
SUMMARY:Intro to Business Golf for Men
DESCRIPTION:Our "Introduction to Business Golf for Men - Part 1" is a 90 minute workshop just right for anyone who is beginning to learn the basic fundamentals of golf\, and how it can be used to enhance business and personal relationships. This course is held within a classroom setting within the Innovation Depot's Executive Conference Room at 1500 First Avenue North\, Downtown Birmingham\, AL 35203. Topics covered in the Introduction to Business Golf for Men Workshop Series: Fundamentals of Golf Scoring Golf Etiquette Clubs & Club Fitting Attire Business & Networking Strategies using Golf Classes are held on Thursday evenings from 6PM until 7:30PM CST.
X-ALT-DESC;FMTTYPE=text/html:Our &quot\;Introduction to Business Golf for Men - Part 1&quot\; is a 90 minute workshop just right for anyone who is beginning to learn the basic fundamentals of golf\, and how it can be used to enhance business and personal relationships. This course is held within a classroom setting within the Innovation Depot&#39\;s Executive Conference Room at 1500 First Avenue North\, Downtown Birmingham\, AL 35203. Topics covered in the Introduction to Business Golf for Men Workshop Series: Fundamentals of Golf Scoring Golf Etiquette Clubs &amp\; Club Fitting Attire Business &amp\; Networking Strategies using Golf Classes are held on Thursday evenings from 6PM until 7:30PM CST.
LOCATION:Innovation Depot's Executive Conference Room at 1500 First Avenue North\, Downtown Birmingham\, AL 35203.
UID:e.145.7805
SEQUENCE:3
DTSTAMP:20260422T140708Z
URL:https://business.shelbychamber.org/events/details/intro-to-business-golf-for-men-12-03-2015-7805
END:VEVENT

END:VCALENDAR
