BEGIN:VCALENDAR
VERSION:2.0
PRODID:-//ChamberMaster//Event Calendar 2.0//EN
METHOD:PUBLISH
X-PUBLISHED-TTL:P3D
REFRESH-INTERVAL:P3D
CALSCALE:GREGORIAN
BEGIN:VEVENT
DTSTART:20131102T150000Z
DTEND:20131124T230000Z
X-MICROSOFT-CDO-ALLDAYEVENT:FALSE
SUMMARY:Iron Bowl Challenge
DESCRIPTION:The Friends of the North Shelby Library are sponsoring an Iron Bowl Challenge. Drop by anytime between November 2nd-November 24th and purchase a Tiger Pride/Tide Pride badge for $1 and be entered into a drawing for an Auburn or Alabama basked packed with goodies!!
X-ALT-DESC;FMTTYPE=text/html:The Friends of the North Shelby Library are sponsoring an Iron Bowl Challenge. Drop by anytime between November 2nd-November 24th and purchase a Tiger Pride/Tide Pride badge for $1 and be entered into a drawing for an Auburn or Alabama basked packed with goodies!!
LOCATION:North Shelby Library
UID:e.145.4911
SEQUENCE:3
DTSTAMP:20260424T020352Z
URL:https://business.shelbychamber.org/events/details/iron-bowl-challenge-11-02-2013-4911
END:VEVENT

END:VCALENDAR
