BEGIN:VCALENDAR
VERSION:2.0
PRODID:-//ChamberMaster//Event Calendar 2.0//EN
METHOD:PUBLISH
X-PUBLISHED-TTL:P3D
REFRESH-INTERVAL:P3D
CALSCALE:GREGORIAN
BEGIN:VEVENT
DTSTART:20140726T140000Z
DTEND:20140726T180000Z
X-MICROSOFT-CDO-ALLDAYEVENT:FALSE
SUMMARY:It's Raining Cats and Dogs
DESCRIPTION:Paint your pet or favorite animal in the style of George Rodrigue or Laurel Burch. The goal is to have something inspired by these artists\, rather than copies of their work. Both artists will be discussed during the class.
X-ALT-DESC;FMTTYPE=text/html:Paint your pet or favorite animal in the style of George Rodrigue or Laurel Burch. The goal is to have something <em>inspired </em>by these artists\, rather than copies of their work.&nbsp\;Both artists will be discussed during the class.
LOCATION:104 Mildred St. Columbiana Al\, 35051
UID:e.145.5501
SEQUENCE:3
DTSTAMP:20260423T151358Z
URL:https://business.shelbychamber.org/events/details/it-s-raining-cats-and-dogs-07-26-2014-5501
END:VEVENT

END:VCALENDAR
