BEGIN:VCALENDAR
VERSION:2.0
PRODID:-//ChamberMaster//Event Calendar 2.0//EN
METHOD:PUBLISH
X-PUBLISHED-TTL:P3D
REFRESH-INTERVAL:P3D
CALSCALE:GREGORIAN
BEGIN:VEVENT
DTSTART:20161009T210000Z
DTEND:20161010T020000Z
X-MICROSOFT-CDO-ALLDAYEVENT:FALSE
SUMMARY:Jazz in the Park
DESCRIPTION:Join us at the Alabaster Municipal Complex Green October 9th for a free evening of jazz! Headliners for this event are Greg Manning and KAYO Band\, featuring Kelley O'Neal. Gates open at 4pm with the headlining performances beginning at 6pm. This event brought to you by the Shelby County Arts Council\, City of Alabaster\, the Alabaster Arts Council and Magic City Smooth Jazz.
X-ALT-DESC;FMTTYPE=text/html:<p><strong><span style="background-color:rgb(255\, 255\, 255)\; color:rgb(0\, 0\, 0)\; font-family:arial\; font-size:12px">Join us at the Alabaster Municipal Complex Green October 9th for a free evening of jazz! Headliners for this event are Greg Manning and KAYO Band\, featuring Kelley O&#39\;Neal. Gates open at 4pm with the headlining performances beginning at 6pm. This event brought to you by the Shelby County Arts Council\, City of Alabaster\, the Alabaster Arts Council and Magic City Smooth Jazz.</span></strong></p>\n<br />\n&nbsp\;
LOCATION:Alabaster Municipal Complex Green 1953 Municipal Way Alabaster\, AL 35007 http://cityofalabaster.com/1953-municipal-way/
UID:e.145.9735
SEQUENCE:3
DTSTAMP:20260421T164507Z
URL:https://business.shelbychamber.org/events/details/jazz-in-the-park-9735
END:VEVENT

END:VCALENDAR
