BEGIN:VCALENDAR
VERSION:2.0
PRODID:-//ChamberMaster//Event Calendar 2.0//EN
METHOD:PUBLISH
X-PUBLISHED-TTL:P3D
REFRESH-INTERVAL:P3D
CALSCALE:GREGORIAN
BEGIN:VEVENT
DTSTART:20151213T200000Z
DTEND:20151213T213000Z
X-MICROSOFT-CDO-ALLDAYEVENT:FALSE
SUMMARY:Jingle all the Way with Dolores Hydock and Bobby Horton
DESCRIPTION:Jingle All the Way: Songs and Stories of the Season\n\nStoryteller Dolores Hydock and musical master Bobby Horton blend happy holiday stories\, favorite Christmas songs\, and jolly sing-alongs into a sparkling mix to jump-start your holiday season.\n\n\n\nSponsored in part by:  The Alabama State Council on the Arts
X-ALT-DESC;FMTTYPE=text/html:<p>Jingle All the Way: Songs and Stories of the Season</p>\n\n<p>Storyteller Dolores Hydock and musical master Bobby Horton blend happy holiday stories\, favorite Christmas songs\, and jolly sing-alongs into a sparkling mix to jump-start your holiday season.<br />\n<br />\nSponsored in part by:&nbsp\; The Alabama State Council on the Arts</p>\n
LOCATION:Shelby County Arts Council Black Box Theatre 104 Mildred Street Columbiana Al 35051
UID:e.145.7927
SEQUENCE:3
DTSTAMP:20260422T125427Z
URL:https://business.shelbychamber.org/events/details/jingle-all-the-way-with-dolores-hydock-and-bobby-horton-12-13-2015-7927
END:VEVENT

END:VCALENDAR
