BEGIN:VCALENDAR
VERSION:2.0
PRODID:-//ChamberMaster//Event Calendar 2.0//EN
METHOD:PUBLISH
X-PUBLISHED-TTL:P3D
REFRESH-INTERVAL:P3D
CALSCALE:GREGORIAN
BEGIN:VEVENT
DTSTART;VALUE=DATE:20130308
DTEND;VALUE=DATE:20130330
TRANSP:TRANSPARENT
X-MICROSOFT-CDO-ALLDAYEVENT:TRUE
SUMMARY:Joanne Fogle Solo Exhibit
DESCRIPTION:Joanne Fogle\, Winner of the 2012 Juried Art Show\, will exhibit at the Shelby County Arts Council in March 2013.  \n\n\n\nJoanne Fogle captured the Best of Show prize for her oil painting titled "Woods in Winter". This is her first solo exhibit as a professional artist. Joanne spends her creative time in her studio at Artists on the Bluff in Bluff Park\, Alabama.\n\n\n\nJoanne Fogle was born in Birmingham\, Alabama in 1959. She attended University of Montevallo for three years in the late 1980's. While attending Montevallo\, Joanne won Excellence awards in both painting and printmaking and was accepted in the 1990 Southern Graphics Council Traveling Two Year Exhibition. After completing three years at the University of Montevallo\, she assumed a career as a full-time visual merchandiser for a local department store. Joanne returned to the Montevallo campus as an artist-in-residence to complete work on the Alabama Big Print project in 2002. The work from this project toured the state for two years and is placed in the permanent collections of the University of Montevallo and the Alabama School\n\n\n\nThe opening reception for this event is Sunday\, March 10\, 2013 from 2:00 pm to 4:30 pm. The exhibit runs through March 29\, 2013. The reception and exhibit is free and open to the public.
X-ALT-DESC;FMTTYPE=text/html:Joanne Fogle\, Winner of the 2012 Juried Art Show\, will exhibit at the Shelby County Arts Council in March 2013.&nbsp\;&nbsp\;<br />\n<br />\nJoanne Fogle captured the Best of Show prize for her oil painting titled &ldquo\;Woods in Winter&rdquo\;. This is her first solo exhibit as a professional artist. Joanne spends her creative time in her studio at Artists on the Bluff in Bluff Park\, Alabama.<br />\n<br />\nJoanne Fogle was born in Birmingham\, Alabama in 1959. She attended University of Montevallo for three years in the late 1980&rsquo\;s. While attending Montevallo\, Joanne won Excellence awards in both painting and printmaking and was accepted in the 1990 Southern Graphics Council Traveling Two Year Exhibition. After completing three years at the University of Montevallo\, she assumed a career as a full-time visual merchandiser for a local department store. Joanne returned to the Montevallo campus as an artist-in-residence to complete work on the Alabama Big Print project in 2002. The work from this project toured the state for two years and is placed in the permanent collections of the University of Montevallo and the Alabama School<br />\n<br />\nThe opening reception for this event is Sunday\, March 10\, 2013 from 2:00 pm to 4:30 pm. The exhibit runs through March 29\, 2013. The reception and exhibit is free and open to the public.<br />\n
LOCATION:Shelby County Arts Council \, 104 Mildred Street\, Columbiana\, AL 35051
UID:e.145.4499
SEQUENCE:3
DTSTAMP:20260424T153656Z
URL:https://business.shelbychamber.org/events/details/joanne-fogle-solo-exhibit-03-08-2013-4499
END:VEVENT

END:VCALENDAR
