BEGIN:VCALENDAR
VERSION:2.0
PRODID:-//ChamberMaster//Event Calendar 2.0//EN
METHOD:PUBLISH
X-PUBLISHED-TTL:P3D
REFRESH-INTERVAL:P3D
CALSCALE:GREGORIAN
BEGIN:VEVENT
DTSTART:20140905T180000Z
DTEND:20140905T210000Z
X-MICROSOFT-CDO-ALLDAYEVENT:FALSE
SUMMARY:Job Fair
DESCRIPTION:Adecco is looking for enthusiastic works that have production\, assemble\, warehouse and forklift experience. We will be taking applications on Sept 4th from 1-4\;to apply you must have Valid ID\,HS Diploma\, at least 2 years production experience. You can also apply online to Adeccousa.com
X-ALT-DESC;FMTTYPE=text/html:Adecco is looking for enthusiastic works that have production\, assemble\, warehouse and forklift experience. We will be taking applications on Sept 4th from 1-4\;to apply you must have Valid ID\,HS Diploma\, at least 2 years production experience. You can also apply online to Adeccousa.com
LOCATION:Hampton Inn Suites\, 232 Cahaba Valley Rd\, Pelham.
UID:e.145.6195
SEQUENCE:3
DTSTAMP:20260423T103726Z
URL:https://business.shelbychamber.org/events/details/job-fair-09-05-2014-6195
END:VEVENT

END:VCALENDAR
