BEGIN:VCALENDAR
VERSION:2.0
PRODID:-//ChamberMaster//Event Calendar 2.0//EN
METHOD:PUBLISH
X-PUBLISHED-TTL:P3D
REFRESH-INTERVAL:P3D
CALSCALE:GREGORIAN
BEGIN:VEVENT
DTSTART:20111006T150000Z
DTEND:20111010T000000Z
X-MICROSOFT-CDO-ALLDAYEVENT:FALSE
SUMMARY:Joyce Preston\, Lindt Chocolate R.S.V.P.\, Independent Consultant at Women's Show
DESCRIPTION:Lindt & Spr ngli\, the world's leading producer of premium chocolate\, announced the introduction of Lindt Chocolate R.S.V.P.\, a new direct sales program for Lindt USA. The new venture provides chocolate lovers with the chance to become entrepreneurial\, independent Lindt Chocolate R.S.V.P. Consultants\, and to host in-home chocolate tasting parties. Come to booth 549 at the Southern Women's Show at the BJCC October 6th-9th. Greater Shelby Chamber member Joyce Preston will be there representing Lindt Chocolates! www.mylindtchocolatersvp.com/joycepreston\n\nhttps://southernshows.com/wbi/
X-ALT-DESC;FMTTYPE=text/html:Lindt &amp\; Spr&uuml\;ngli\, the world&rsquo\;s leading producer of premium chocolate\, announced the introduction of Lindt Chocolate R.S.V.P.\, a new direct sales program for Lindt USA. The new venture provides chocolate lovers with the chance to become entrepreneurial\, independent Lindt Chocolate R.S.V.P. Consultants\, and to host in-home chocolate tasting parties. <span style="color: rgb(165\, 42\, 42)\;"><strong><span style="background-color: rgb(255\, 255\, 255)\;">Come to booth 549 at the Southern Women&#39\;s Show at the BJCC October 6th-9th. Greater Shelby Chamber member Joyce Preston will be there representing Lindt Chocolates! </span></strong></span>www.mylindtchocolatersvp.com/joycepreston<br />\nhttps://southernshows.com/wbi/
LOCATION:Birmingham-Jefferson Civic Center
UID:e.145.3527
SEQUENCE:3
DTSTAMP:20260425T183402Z
URL:https://business.shelbychamber.org/events/details/joyce-preston-lindt-chocolate-r-s-v-p-independent-consultant-at-women-s-show-10-06-2011-3527
END:VEVENT

END:VCALENDAR
