BEGIN:VCALENDAR
VERSION:2.0
PRODID:-//ChamberMaster//Event Calendar 2.0//EN
METHOD:PUBLISH
X-PUBLISHED-TTL:P3D
REFRESH-INTERVAL:P3D
CALSCALE:GREGORIAN
BEGIN:VEVENT
DTSTART:20140411T000000Z
DTEND:20140411T020000Z
X-MICROSOFT-CDO-ALLDAYEVENT:FALSE
SUMMARY:Julie Hedgepeth-A Rare Titanic Family
DESCRIPTION:Writer presentation in full costume with book signing and refreshments reminiscent of the Titanic.
X-ALT-DESC;FMTTYPE=text/html:Writer presentation in full costume with book signing and refreshments reminiscent of the Titanic.
LOCATION:Shelby County Arts Council
UID:e.145.4922
SEQUENCE:3
DTSTAMP:20260423T201719Z
URL:https://business.shelbychamber.org/events/details/julie-hedgepeth-a-rare-titanic-family-04-10-2014-4922
END:VEVENT

END:VCALENDAR
