BEGIN:VCALENDAR
VERSION:2.0
PRODID:-//ChamberMaster//Event Calendar 2.0//EN
METHOD:PUBLISH
X-PUBLISHED-TTL:P3D
REFRESH-INTERVAL:P3D
CALSCALE:GREGORIAN
BEGIN:VEVENT
DTSTART:20110702T230000Z
DTEND:20110703T023000Z
X-MICROSOFT-CDO-ALLDAYEVENT:FALSE
SUMMARY:July 4th Celebration on July 2nd CITY OF HELENA
DESCRIPTION:The City of Helena will be having its annual 4th of July Celebration Day on July 2nd 6-9:30pm\n\n\n\nMusic will be bands: U.S. (www.uscanus.com) and Carson James Sumpter (www.carsonjames.com) with possibly another special guest???!!!! You will never know if you don't show!!!!\n\n\n\nFireworks immediately following the bands at 9:30pm  \n\n\n\nWe will be serving food and beverages (adult beverages included) If you plan on coming you will need to bring a chair or blanket to sit on \n\n \n\nWith the help of all of our SPONSERS this is a FREE event for all to come The City couldn't do it without them \n\n\n\nPlease click here to open a JPG flier read more details and to distribute!
X-ALT-DESC;FMTTYPE=text/html:<strong>The City of Helena will be having its annual 4th of July Celebration Day on July 2nd 6-9:30pm</strong><br />\n<br />\nMusic will be bands: U.S. (www.uscanus.com) and Carson James Sumpter (www.carsonjames.com) with possibly another special guest???!!!! You will never know if you don&rsquo\;t show!!!!<br />\n<br />\nFireworks immediately following the bands at 9:30pm &hellip\;<br />\n<br />\nWe will be serving food and beverages (adult beverages included)&hellip\;If you plan on coming you will need to bring a chair or blanket to sit on&hellip\;<br />\n&nbsp\;<br />\nWith the help of all of our SPONSERS this is a FREE event for all to come&hellip\;The City couldn&rsquo\;t do it without them&hellip\;<br />\n<br />\n<a href="http://cloud.chambermaster.com/userfiles/UserFiles/chambers/145/File/Community%20Events/US_4thofJulyPoster_Option02_sm(1).JPG">Please click here to open a JPG flier read more details and to distribute!</a>
LOCATION:Helena Amphitheater
UID:e.145.3452
SEQUENCE:3
DTSTAMP:20260425T233019Z
URL:https://business.shelbychamber.org/events/details/july-4th-celebration-on-july-2nd-city-of-helena-07-02-2011-3452
END:VEVENT

END:VCALENDAR
