BEGIN:VCALENDAR
VERSION:2.0
PRODID:-//ChamberMaster//Event Calendar 2.0//EN
METHOD:PUBLISH
X-PUBLISHED-TTL:P3D
REFRESH-INTERVAL:P3D
CALSCALE:GREGORIAN
BEGIN:VEVENT
DTSTART;VALUE=DATE:20110620
DTEND;VALUE=DATE:20110625
TRANSP:TRANSPARENT
X-MICROSOFT-CDO-ALLDAYEVENT:TRUE
SUMMARY:Junior Workshop (ages 5-6)
DESCRIPTION:Shelby County Arts Council makes it easy for you to give a gift that will be treasured forever-the experiance of Red Mountain Musical Theatre Workshop for youth ages 5-18!\n\n\n\nHow to Audition Workshop Auditions: May 7\, 10am-12pm\n\n\n\nJunior Workshop (ages 5-6)\n\nHalf-Day: $75\n\n\n\nYouth Musical Theatre Workshop (ages 7-18)\n\nFull Day: $125\n\n\n\nSnacks included. Bring a sack lunch.\n\nLocation: Shelby County High School Auditorium-Columbiana
X-ALT-DESC;FMTTYPE=text/html:Shelby County Arts Council makes it easy for you to give a gift that will be treasured forever-the experiance of Red Mountain Musical Theatre Workshop for youth ages 5-18!\n<br>\n<br>How to Audition Workshop Auditions: May 7\, 10am-12pm\n<br>\n<br>Junior Workshop (ages 5-6)\n<br>Half-Day: $75\n<br>\n<br>Youth Musical Theatre Workshop (ages 7-18)\n<br>Full Day: $125\n<br>\n<br>Snacks included. Bring a sack lunch.\n<br>Location: Shelby County High School Auditorium-Columbiana
LOCATION:Shelby County High School Auditorium-Columbiana
UID:e.145.3308
SEQUENCE:3
DTSTAMP:20260426T021542Z
URL:https://business.shelbychamber.org/events/details/junior-workshop-ages-5-6-06-20-2011-3308
END:VEVENT

END:VCALENDAR
