BEGIN:VCALENDAR
VERSION:2.0
PRODID:-//ChamberMaster//Event Calendar 2.0//EN
METHOD:PUBLISH
X-PUBLISHED-TTL:P3D
REFRESH-INTERVAL:P3D
CALSCALE:GREGORIAN
BEGIN:VEVENT
DTSTART;VALUE=DATE:20130124
DTEND;VALUE=DATE:20130125
TRANSP:TRANSPARENT
X-MICROSOFT-CDO-ALLDAYEVENT:TRUE
SUMMARY:Justin Gaffrey Art @ Shelby County Arts Council
DESCRIPTION:Need a getaway to the beach without leaving town? Join the Shelby County Arts Council on Thursday\, January 10\, 2013\, at the opening reception for Justin Gaffrey. Justin's work is well known in the 30A area of the Florida's Gulf Coast. Visitors to Seaside and Blue Mountain Beach\, Florida are enchanted by his vivid works of art. This is a rare opportunity to view and purchase his work outside his gallery.\n\n\n\n"Working now exclusively with pure acrylic paints (no fillers are used) and using mostly the palette knife\, he produces works of breathtaking beauty and complexity. His technique might best be described as "sculpting with paint." Most works utilize colors that are extraordinarily vibrant\, but he also produces wonderful soft palettes of muted tones\, sometimes working entirely in white. While the subject matter is varied\, his works are all reflections of the beauty he finds in the natural world that surrounds him daily along Highway 30-A."\n\n\n\nThe opening reception is 6:00pm- 8:00pm at 104 Mildred Avenue\, Columbiana\, Alabama. For more information contact Susan Gordon at (205) 669- 0044 or by email info@shelbycountyartscouncil.com . The exhibit will run through January 30.
X-ALT-DESC;FMTTYPE=text/html:Need a getaway to the beach without leaving town? Join the Shelby County Arts Council on Thursday\, January 10\, 2013\, at the opening reception for Justin Gaffrey. Justin&rsquo\;s work is well known in the 30A area of the Florida&rsquo\;s Gulf Coast. Visitors to Seaside and Blue Mountain Beach\, Florida are enchanted by his vivid works of art. This is a rare opportunity to view and purchase his work outside his gallery.<br />\n<br />\n&ldquo\;Working now exclusively with pure acrylic paints (no fillers are used) and using mostly the palette knife\, he produces works of breathtaking beauty and complexity. His technique might best be described as &ldquo\;sculpting with paint.&rdquo\; Most works utilize colors that are extraordinarily vibrant\, but he also produces wonderful soft palettes of muted tones\, sometimes working entirely in white. While the subject matter is varied\, his works are all reflections of the beauty he finds in the natural world that surrounds him daily along Highway 30-A.&rdquo\;<br />\n<br />\nThe opening reception is 6:00pm- 8:00pm at 104 Mildred Avenue\, Columbiana\, Alabama. For more information contact Susan Gordon at (205) 669- 0044 or by email info@shelbycountyartscouncil.com . The exhibit will run through January 30.<br />\n
LOCATION:104 MIldred Street\, Columbiana\, AL 35051
UID:e.145.4416
SEQUENCE:3
DTSTAMP:20260424T202212Z
URL:https://business.shelbychamber.org/events/details/justin-gaffrey-art-shelby-county-arts-council-01-24-2013-4416
END:VEVENT

END:VCALENDAR
