BEGIN:VCALENDAR
VERSION:2.0
PRODID:-//ChamberMaster//Event Calendar 2.0//EN
METHOD:PUBLISH
X-PUBLISHED-TTL:P3D
REFRESH-INTERVAL:P3D
CALSCALE:GREGORIAN
BEGIN:VEVENT
DTSTART:20130618T200000Z
DTEND:20130618T220000Z
X-MICROSOFT-CDO-ALLDAYEVENT:FALSE
SUMMARY:K & J's Pastry Shop
DESCRIPTION:JOIN in as we celebrate the opening of K & J's Pastry Shop! There will be a Ribbon Cutting Ceremony and lots of yummy treats.
X-ALT-DESC;FMTTYPE=text/html:JOIN in as we celebrate the opening of K &amp\; J&#39\;s Pastry Shop! There will be a Ribbon Cutting Ceremony and lots of yummy treats. 
LOCATION:1614 Kent Dairy Road\, #206 Alabaster\, AL 35007
UID:e.145.4628
SEQUENCE:3
DTSTAMP:20260424T120249Z
URL:https://business.shelbychamber.org/events/details/k-j-s-pastry-shop-06-18-2013-4628
END:VEVENT

END:VCALENDAR
