BEGIN:VCALENDAR
VERSION:2.0
PRODID:-//ChamberMaster//Event Calendar 2.0//EN
METHOD:PUBLISH
X-PUBLISHED-TTL:P3D
REFRESH-INTERVAL:P3D
CALSCALE:GREGORIAN
BEGIN:VEVENT
DTSTART:20110524T230000Z
DTEND:20110525T040000Z
X-MICROSOFT-CDO-ALLDAYEVENT:FALSE
SUMMARY:Karaoke For A Cause at Nino's Italian Restaurant
DESCRIPTION:Karaoke For A Cause\n\n	at Nino's Italian Restaurant\n\n\nWhat? A night of karaoke hosted by Judy Johnson. A portion of the proceeds raised from this event will go toward helping the victims of the April 27th tornadoes.\n\n\n\nWhen? Tuesday May 24th from 6 p.m. to 11 p.m.\n\n\n\nWhere? Nino's Italian Restaurant\n\n2698 Pelham Parkway\n\n(205) 620-1116\n\n\n\nClick here for a printable flier.\n\n\n\n* No other offers (Groupon\, coupons\, etc.) will be honored during this time.
X-ALT-DESC;FMTTYPE=text/html:<h2>\n	<span style="color: rgb(178\, 34\, 34)\;">Karaoke For A Cause</span><br />\n	<span style="color: rgb(178\, 34\, 34)\;">at Nino&#39\;s Italian Restaurant</span></h2>\n<br />\n<span style="font-size: 14px\;"><strong>What?</strong> A night of karaoke hosted by Judy Johnson. A portion of the proceeds raised from this event will go toward helping the victims of the April 27th tornadoes.<br />\n<br />\n<strong>When?</strong> Tuesday May 24th from 6 p.m. to 11 p.m.<br />\n<br />\n<strong>Where?</strong> Nino&rsquo\;s Italian Restaurant<br />\n2698 Pelham Parkway<br />\n(205) 620-1116<br />\n<br />\n<a href="http://cloud.chambermaster.com/userfiles/UserFiles/chambers/145/File/Community%20Events/KaraokeForACause.pdf"><strong>Click here for a printable flier.</strong></a><br />\n<br />\n<em><strong>* No other offers (Groupon\, coupons\, etc.) will be honored during this time.</strong></em></span>
LOCATION:Nino's Italian Restaurant 2698 Pelham Parkway (205) 620-1116
UID:e.145.3397
SEQUENCE:3
DTSTAMP:20260426T034057Z
URL:https://business.shelbychamber.org/events/details/karaoke-for-a-cause-at-nino-s-italian-restaurant-05-24-2011-3397
END:VEVENT

END:VCALENDAR
