BEGIN:VCALENDAR
VERSION:2.0
PRODID:-//ChamberMaster//Event Calendar 2.0//EN
METHOD:PUBLISH
X-PUBLISHED-TTL:P3D
REFRESH-INTERVAL:P3D
CALSCALE:GREGORIAN
BEGIN:VEVENT
DTSTART:20130126T143000Z
DTEND:20130126T160000Z
X-MICROSOFT-CDO-ALLDAYEVENT:FALSE
SUMMARY:Krispy Kreme Doughnut Dash benefiting Children's of Alabama
DESCRIPTION:The Krispy Kreme Doughnut Dash is a four mile run benefitting Children's of Alabama in which participants eat a dozen Krispy Kreme doughnuts at the halfway mark. If that doesn't sound appealing\, you can just register as a casual runner and bring the doughnuts home. The race will be on January 26\, 2013. The Start/Finish will be at Children's Hospital and the doughnut eating area will be at Railroad Park. Krispy Kreme is on board and Fleet Feet Sports is helping us with the race logistics. Here is our website for more information: www.k2d2fun.com. We are currently looking for sponsors. Anyone interested can contact Roger Rocha at rrocha@brownmackie.edu.
X-ALT-DESC;FMTTYPE=text/html:The Krispy Kreme Doughnut Dash is a four mile run benefitting Children&rsquo\;s of Alabama in which participants eat a dozen Krispy Kreme doughnuts at the halfway mark. If that doesn&#39\;t sound appealing\, you can just register as a casual runner and bring the doughnuts home. The race will be on January 26\, 2013. The Start/Finish will be at Children&#39\;s Hospital and the doughnut eating area will be at Railroad Park. Krispy Kreme is on board and Fleet Feet Sports is helping us with the race logistics. Here is our website for more information: <a href="http://www.k2d2fun.com/">www.k2d2fun.com</a>. We are currently looking for sponsors. Anyone interested can contact Roger Rocha at <a href="mailto:rrocha@brownmackie.edu">rrocha@brownmackie.edu</a>. 
LOCATION:SWAG All runners will receive a technical shirt and a dozen Krispy Kreme Doughnuts\, either to eat as part of the challenge or to take home if you choose to enter in the Casual Runner division. Race Race Date - Saturday\, January 26\, 2013 Start Time - 8:30 am Location - 5th Avenue South near Children's Hospital Time Limit - 1 hour for Challenger division\, and 1-1/2 hours for Casual Runners division Awards - 10:00 am Course Route Approximate course route is depicted below. Runners will start on 5th Avenue South near Children's Hospital\, and turn left on 20th Street South\, then left on 2nd Avenue North\, left on 14th Street North\, and finally another left on 1st Avenue South. Runners will then enter Railroad Park in the Pavilion area where doughnuts and water await. Those who register as a Challenger and eat all 12 doughnuts will pass through a special timing chute\, while Casual Runners and Challengers who did not eat all 12 doughnuts will bypass this chute. All runners will return along the same route in reverse and finish near Children's Hospital.
UID:e.145.4352
SEQUENCE:3
DTSTAMP:20260424T184430Z
URL:https://business.shelbychamber.org/events/details/krispy-kreme-doughnut-dash-benefiting-children-s-of-alabama-01-26-2013-4352
END:VEVENT

END:VCALENDAR
