BEGIN:VCALENDAR
VERSION:2.0
PRODID:-//ChamberMaster//Event Calendar 2.0//EN
METHOD:PUBLISH
X-PUBLISHED-TTL:P3D
REFRESH-INTERVAL:P3D
CALSCALE:GREGORIAN
BEGIN:VEVENT
DTSTART:20111215T230000Z
DTEND:20111216T020000Z
X-MICROSOFT-CDO-ALLDAYEVENT:FALSE
SUMMARY:Ladies Night at the Pelham YMCA
DESCRIPTION:FUN FELLOWSHIP AND FITNESS\n\nLadies Night at the Pelham YMCA!  Click here for a PDF printable flier for the event.\n\n\n\nClick here for a .jpg flier for the event.  Click here for a PDF poster for the event.\n\n\n\nGrab your girlfriends\, daughters\, mothers and sisters and treat yourself to an evening of pampering\,\n\nshopping\, and fitness all while helping others at the Pelham YMCA.\n\n\n\nWhen: Thursday\, December 15th\, 2011\; 5pm-8pm\n\n\n\nTry the Y\n\nGroup Fitness Classes at 4:45pm (BodyPUMP)\,\n\n5:45pm (BodyJAM) and 6:45pm (Yoga)\n\n\n\nTreat Yourself\n\nWomen's Self-Defense Demos beginning at 6pm\n\nChair massages\n\n\n\nChristmas Shop\n\nSkip the crowds and support local vendors as you finish up last minute Christmas shopping\n\n\n\nSupport a Great Cause\n\nSpotlight on SafeHouse of Shelby County: The mission of SafeHouse is to empower survivors of domestic\n\nand sexual violence through support and advocacy and to educate the community to prevent future abuse.\n\n\n\nWin Great Prizes\n\nEnter to win your favorite things in a raffle to benefit YMCA Strong Kids Campaign and\n\nSafeHouse of Shelby County. Proceeds will provide YMCA memberships\, after school care\, summer\n\nday camp and sports programs to women and children at SafeHouse.\n\n\n\n*Child watch available at no charge. Event open to members and non-members.\n\n\n\nFor more information contact:\n\nLeslie Lazaro\, Membership Director\n\n205 685 6509\; llazaro@ymcabham.org
X-ALT-DESC;FMTTYPE=text/html:<strong>FUN FELLOWSHIP AND FITNESS</strong><br />\nLadies Night at the Pelham YMCA!&nbsp\; <a href="http://cloud.chambermaster.com/userfiles/UserFiles/chambers/145/File/Community Events/LadiesNightFlyer2.pdf">Click here for a PDF printable flier for the event.</a><br />\n<br />\n<a href="http://cloud.chambermaster.com/userfiles/UserFiles/chambers/145/File/Community%20Events/LadiesNightFlyer2.jpg">Click here for a .jpg flier for the event.</a>&nbsp\; <a href="http://cloud.chambermaster.com/userfiles/UserFiles/chambers/145/File/Community%20Events/LadiesNightPoster.pdf">Click here for a PDF poster for the event.</a><br />\n<br />\nGrab your girlfriends\, daughters\, mothers and sisters and treat yourself to an evening of pampering\,<br />\nshopping\, and fitness all while helping others at the Pelham YMCA.<br />\n<br />\nWhen: Thursday\, December 15th\, 2011\; 5pm-8pm<br />\n<br />\n<strong>Try the Y</strong><br />\nGroup Fitness Classes at 4:45pm (BodyPUMP)\,<br />\n5:45pm (BodyJAM) and 6:45pm (Yoga)<br />\n<br />\n<strong>Treat Yourself</strong><br />\nWomen&rsquo\;s Self-Defense Demos beginning at 6pm<br />\nChair massages<br />\n<br />\n<strong>Christmas Shop</strong><br />\nSkip the crowds and support local vendors as you finish up last minute Christmas shopping<br />\n<br />\n<strong>Support a Great Cause</strong><br />\nSpotlight on SafeHouse of Shelby County: The mission of SafeHouse is to empower survivors of domestic<br />\nand sexual violence through support and advocacy and to educate the community to prevent future abuse.<br />\n<br />\n<strong>Win Great Prizes</strong><br />\nEnter to win your favorite things in a raffle to benefit YMCA Strong Kids Campaign and<br />\nSafeHouse of Shelby County. Proceeds will provide YMCA memberships\, after school care\, summer<br />\nday camp and sports programs to women and children at SafeHouse.<br />\n<br />\n*Child watch available at no charge. Event open to members and non-members.<br />\n<br />\nFor more information contact:<br />\nLeslie Lazaro\, Membership Director<br />\n205 685 6509\; llazaro@ymcabham.org
LOCATION:PELHAM YMCA 2610 PELHAM PARKWAY P: 205 664 9622 www.ymcabham.org/pelham
UID:e.145.3626
SEQUENCE:3
DTSTAMP:20260425T153232Z
URL:https://business.shelbychamber.org/events/details/ladies-night-at-the-pelham-ymca-12-15-2011-3626
END:VEVENT

END:VCALENDAR
