BEGIN:VCALENDAR
VERSION:2.0
PRODID:-//ChamberMaster//Event Calendar 2.0//EN
METHOD:PUBLISH
X-PUBLISHED-TTL:P3D
REFRESH-INTERVAL:P3D
CALSCALE:GREGORIAN
BEGIN:VEVENT
DTSTART:20121204T000000Z
DTEND:20121204T030000Z
X-MICROSOFT-CDO-ALLDAYEVENT:FALSE
SUMMARY:Ladies' Night at the YMCA - Pelham
DESCRIPTION:On Monday\, December 3 from 6   9 p.m.\, the Pelham YMCA will host Ladies' Night at the Y   an event where members and non-members can start their holiday shopping\, pamper themselves\, and benefit the community at the same time. Ladies' Night will feature local vendors\, including Shaklee\, Willow House\, Arbonne\, Scentsy\, Bake Sale 4 Charity and others\, who will offer great holiday deals. Self-defense and BodyJAM classes will be open to the public\, as well as couponing and hula hooping for fitness demonstrations. Ladies will be pampered by wellness vendors\, including chair massages and more.\n\n\n\nLadies' Night at the Y aims to raise money to provide YMCA scholarships for the children of SafeHouse of Shelby County\, an organization that provides comprehensive services to victims of domestic and sexual violence. Funds raised via a silent auction and other donations will be used to support community members using SafeHouse and YMCA services\, and to enable children living in the SafeHouse shelter to attend Summer Camp at the Pelham YMCA.\n\n\n\nThis event is free to attend and everyone is welcome. Childcare services will be provided at no cost from 6pm to 8pm. Door prizes will be given.
X-ALT-DESC;FMTTYPE=text/html:On Monday\, December 3 from 6 &ndash\; 9 p.m.\, the Pelham YMCA will host Ladies&rsquo\; Night at the Y &ndash\; an event where members and non-members can start their holiday shopping\, pamper themselves\, and benefit the community at the same time. Ladies&rsquo\; Night will feature local vendors\, including Shaklee\, Willow House\, Arbonne\, Scentsy\, Bake Sale 4 Charity and others\, who will offer great holiday deals. Self-defense and BodyJAM classes will be open to the public\, as well as couponing and hula hooping for fitness demonstrations. Ladies will be pampered by wellness vendors\, including chair massages and more.<br />\n<br />\nLadies&rsquo\; Night at the Y aims to raise money to provide YMCA scholarships for the children of SafeHouse of Shelby County\, an organization that provides comprehensive services to victims of domestic and sexual violence. Funds raised via a silent auction and other donations will be used to support community members using SafeHouse and YMCA services\, and to enable children living in the SafeHouse shelter to attend Summer Camp at the Pelham YMCA.<br />\n<br />\nThis event is free to attend and everyone is welcome. Childcare services will be provided at no cost from 6pm to 8pm. Door prizes will be given.<br />\n&nbsp\;
LOCATION:Pelham YMCA
UID:e.145.4434
SEQUENCE:3
DTSTAMP:20260424T202037Z
URL:https://business.shelbychamber.org/events/details/ladies-night-at-the-ymca-pelham-12-03-2012-4434
END:VEVENT

END:VCALENDAR
