BEGIN:VCALENDAR
VERSION:2.0
PRODID:-//ChamberMaster//Event Calendar 2.0//EN
METHOD:PUBLISH
X-PUBLISHED-TTL:P3D
REFRESH-INTERVAL:P3D
CALSCALE:GREGORIAN
BEGIN:VEVENT
DTSTART:20140525T010000Z
DTEND:20140525T030000Z
X-MICROSOFT-CDO-ALLDAYEVENT:FALSE
SUMMARY:Lady Sings the Blues\, an evening with BJ Reed
DESCRIPTION:Lady Sings the Blues: Featuring B.J. Reed Saturday\, May 24\, 2014 at 8:00pm Billie Holiday had a strong influence on jazz and pop singing. Her vocal style inspired by jazz instrumentalists\, pioneered a new way of manipulating phrasing and tempo. Dinah Washington self proclaimed "Queen of the Blues"\, her short life was a flurry of bad decisions and great musical talent. B.J. Reed sings the songs that made these two woman musical icons.
X-ALT-DESC;FMTTYPE=text/html:Lady Sings the Blues: Featuring B.J. Reed Saturday\, May 24\, 2014 at 8:00pm Billie Holiday had a strong influence on jazz and pop singing. Her vocal style inspired by jazz instrumentalists\, pioneered a new way of manipulating phrasing and tempo. Dinah Washington self proclaimed &quot\;Queen of the Blues&quot\;\, her short life was a flurry of bad decisions and great musical talent. B.J. Reed sings the songs that made these two woman musical icons.
LOCATION:Shelby County Arts Council 104 Mildred Street Columbiana\, AL 35051
UID:e.145.5339
SEQUENCE:3
DTSTAMP:20260423T165503Z
URL:https://business.shelbychamber.org/events/details/lady-sings-the-blues-an-evening-with-bj-reed-05-24-2014-5339
END:VEVENT

END:VCALENDAR
