BEGIN:VCALENDAR
VERSION:2.0
PRODID:-//ChamberMaster//Event Calendar 2.0//EN
METHOD:PUBLISH
X-PUBLISHED-TTL:P3D
REFRESH-INTERVAL:P3D
CALSCALE:GREGORIAN
BEGIN:VEVENT
DTSTART:20140823T010000Z
DTEND:20140823T030000Z
X-MICROSOFT-CDO-ALLDAYEVENT:FALSE
SUMMARY:Lady Sings the Blues- BJ Reed
DESCRIPTION:The Shelby County Arts Council welcomes accomplished Blues singer B J Reed to the performing arts venue. Reed is an award winning singer whose work with the Alabama Blues Project for the past several years has inspired many young\, aspiring singers. As a child she sang songs of her favorite artists to entertain her siblings\, today she continues to entertain crowds at regional festivals and clubs. Using her background in classic soul and gospel she will take the stage performing the songs of Billie Holiday and Dinah Washington that not only made these women musical icons but also influenced her own work.
X-ALT-DESC;FMTTYPE=text/html:<p>The Shelby County Arts Council welcomes accomplished Blues singer B J Reed to the performing arts venue. Reed is an award winning singer whose work with the Alabama Blues Project for the past several years has inspired many young\, aspiring singers. As a child she sang songs of her favorite artists to entertain her siblings\, today she continues to entertain crowds at regional festivals and clubs. Using her background in classic soul and gospel she will take the stage performing the songs of Billie Holiday and Dinah Washington that not only made these women musical icons but also influenced her own work.</p>\n
LOCATION:104 Mildred St. Columbiana Al\, 35051
UID:e.145.5523
SEQUENCE:3
DTSTAMP:20260423T120610Z
URL:https://business.shelbychamber.org/events/details/lady-sings-the-blues-bj-reed-08-22-2014-5523
END:VEVENT

END:VCALENDAR
