BEGIN:VCALENDAR
VERSION:2.0
PRODID:-//ChamberMaster//Event Calendar 2.0//EN
METHOD:PUBLISH
X-PUBLISHED-TTL:P3D
REFRESH-INTERVAL:P3D
CALSCALE:GREGORIAN
BEGIN:VEVENT
DTSTART:20130803T150000Z
DTEND:20130803T170000Z
X-MICROSOFT-CDO-ALLDAYEVENT:FALSE
SUMMARY:Lake Stomp
DESCRIPTION:Get your feet wet with this event. We will be investigating what you might find in the lake or stream or even the backyard pond. Meet at the Park Office on Terrace Drive\, and then travel to water. Be prepared to get wet.
X-ALT-DESC;FMTTYPE=text/html:Get your feet wet with this event. We will be investigating what you might find in the lake or stream or even the backyard pond. Meet at the Park Office on Terrace Drive\, and then travel to water. Be prepared to get wet.
LOCATION:Oak Mountain State Park - Park Office
UID:e.145.4527
SEQUENCE:3
DTSTAMP:20260424T065244Z
URL:https://business.shelbychamber.org/events/details/lake-stomp-08-03-2013-4527
END:VEVENT

END:VCALENDAR
