BEGIN:VCALENDAR
VERSION:2.0
PRODID:-//ChamberMaster//Event Calendar 2.0//EN
METHOD:PUBLISH
X-PUBLISHED-TTL:P3D
REFRESH-INTERVAL:P3D
CALSCALE:GREGORIAN
BEGIN:VEVENT
DTSTART:20130817T150000Z
DTEND:20130817T170000Z
X-MICROSOFT-CDO-ALLDAYEVENT:FALSE
SUMMARY:Lake Trail Walk
DESCRIPTION:We will take a nice walk along the Lake Trail. We will hike to the Bridge and back\, an invigorating 2 mile walk. Meet at the Marina parking lot on Terrace Drive. Dress for the weather and bring water. Well behaved\, leashed pets are welcome on this hike.
X-ALT-DESC;FMTTYPE=text/html:We will take a nice walk along the Lake Trail. We will hike to the Bridge and back\, an invigorating 2 mile walk. Meet at the Marina parking lot on Terrace Drive. Dress for the weather and bring water. Well behaved\, leashed pets are welcome on this hike.<br />\n<br />\n
LOCATION:Oak Mountain State Park - Marina
UID:e.145.4528
SEQUENCE:3
DTSTAMP:20260424T065259Z
URL:https://business.shelbychamber.org/events/details/lake-trail-walk-08-17-2013-4528
END:VEVENT

END:VCALENDAR
