BEGIN:VCALENDAR
VERSION:2.0
PRODID:-//ChamberMaster//Event Calendar 2.0//EN
METHOD:PUBLISH
X-PUBLISHED-TTL:P3D
REFRESH-INTERVAL:P3D
CALSCALE:GREGORIAN
BEGIN:VEVENT
DTSTART:20120928T010000Z
DTEND:20121008T030000Z
X-MICROSOFT-CDO-ALLDAYEVENT:FALSE
SUMMARY:Laura: Murder Mystery
DESCRIPTION:A brilliant murder mystery! "A psychothriller... recommended to those in search of surprise\, excellence\, and difference in the telling."--New York Herald Tribune
X-ALT-DESC;FMTTYPE=text/html:A brilliant murder mystery! &quot\;A psychothriller... recommended to those in search of surprise\, excellence\, and difference in the telling.&quot\;--New York Herald Tribune<br />\n
LOCATION:South City Theatre\, 3640 Hwy 26\, Alabaster\, AL 35007
UID:e.145.4385
SEQUENCE:3
DTSTAMP:20260424T233324Z
URL:https://business.shelbychamber.org/events/details/laura-murder-mystery-09-27-2012-4385
END:VEVENT

END:VCALENDAR
