BEGIN:VCALENDAR
VERSION:2.0
PRODID:-//ChamberMaster//Event Calendar 2.0//EN
METHOD:PUBLISH
X-PUBLISHED-TTL:P3D
REFRESH-INTERVAL:P3D
CALSCALE:GREGORIAN
BEGIN:VEVENT
DTSTART:20121215T140000Z
DTEND:20121215T200000Z
X-MICROSOFT-CDO-ALLDAYEVENT:FALSE
SUMMARY:Leagcy for Good Foundation holiday 5K & Kids Fun Run
DESCRIPTION:A great way to have fun and Do Something Good. Our 5K supports Christmas Blessing Program\; providing Holiday meals to Families in Need. The Kids Fun Run supports Toys for Tots. Come join us and support a great cause! Contact gcannady@legacycreditunion.com or Register at www.active.com.
X-ALT-DESC;FMTTYPE=text/html:<span itemprop="description"><span class="fsl"><span>A great way to have fun and Do Something Good. Our 5K supports Christmas Blessing Program\; providing Holiday meals to Families in Need. The Kids Fun Run supports Toys for Tots. Come join us and support a great cause! Contact </span><span>gcannady@legacycreditunion</span><wbr>.com</wbr> or Register at <a href="http://www.active.com/" rel="nofollow nofollow" target="_blank">www.active.com</a>. </span></span>
LOCATION:Heardmont Park 5458 Cahaba Valley Road\, Birmingham\, Al
UID:e.145.4426
SEQUENCE:3
DTSTAMP:20260424T202242Z
URL:https://business.shelbychamber.org/events/details/leagcy-for-good-foundation-holiday-5k-kids-fun-run-12-15-2012-4426
END:VEVENT

END:VCALENDAR
