BEGIN:VCALENDAR
VERSION:2.0
PRODID:-//ChamberMaster//Event Calendar 2.0//EN
METHOD:PUBLISH
X-PUBLISHED-TTL:P3D
REFRESH-INTERVAL:P3D
CALSCALE:GREGORIAN
BEGIN:VEVENT
DTSTART;VALUE=DATE:20160229
DTEND;VALUE=DATE:20160301
TRANSP:TRANSPARENT
X-MICROSOFT-CDO-ALLDAYEVENT:TRUE
SUMMARY:Leap Day Craft
DESCRIPTION:Stop by the Children's Department in February to pick up a craft to take home or make in the department to celebrate a special day of the year   Leap Day! All ages are welcome. Supplies are limited.
X-ALT-DESC;FMTTYPE=text/html:<span style="font-family:calibri light\,sans-serif">Stop&nbsp\;by&nbsp\;the&nbsp\;Children&rsquo\;s&nbsp\;Department&nbsp\;in&nbsp\;February to&nbsp\;pick&nbsp\;up&nbsp\;a&nbsp\;craft&nbsp\;to&nbsp\;take&nbsp\;home&nbsp\;or&nbsp\;make&nbsp\;in&nbsp\;the department to celebrate a special day of the year &ndash\; Leap Day! <u>All&nbsp\;ages&nbsp\;are&nbsp\;welcome</u>.&nbsp\;<u>Supplies&nbsp\;are&nbsp\;limited</u>.</span>
LOCATION:
UID:e.145.8273
SEQUENCE:3
DTSTAMP:20260422T092918Z
URL:https://business.shelbychamber.org/events/details/leap-day-craft-02-29-2016-8273
END:VEVENT

END:VCALENDAR
