BEGIN:VCALENDAR
VERSION:2.0
PRODID:-//ChamberMaster//Event Calendar 2.0//EN
METHOD:PUBLISH
X-PUBLISHED-TTL:P3D
REFRESH-INTERVAL:P3D
CALSCALE:GREGORIAN
BEGIN:VEVENT
DTSTART;VALUE=DATE:20110406
DTEND;VALUE=DATE:20110428
TRANSP:TRANSPARENT
X-MICROSOFT-CDO-ALLDAYEVENT:TRUE
SUMMARY:Learn To Draw
DESCRIPTION:Always wanted to learn to draw but don't know how to begin? Start here!\n\nGain confidence\, Learn to draw what you see!\n\nRefine & Sharpen your skills if you are already advanced!\n\nThis class is recommended if you want to learn how to paint!
X-ALT-DESC;FMTTYPE=text/html:Always wanted to learn to draw but don't know how to begin? Start here!\n<br>Gain confidence\, Learn to draw what you see!\n<br>Refine &amp\; Sharpen your skills if you are already advanced!\n<br>This class is recommended if you want to learn how to paint!
LOCATION:Shelby County Arts Council-104 Mildred St\, Columbiana\, Al 35051
UID:e.145.3313
SEQUENCE:3
DTSTAMP:20260426T033628Z
URL:https://business.shelbychamber.org/events/details/learn-to-draw-04-06-2011-3313
END:VEVENT

END:VCALENDAR
