BEGIN:VCALENDAR
VERSION:2.0
PRODID:-//ChamberMaster//Event Calendar 2.0//EN
METHOD:PUBLISH
X-PUBLISHED-TTL:P3D
REFRESH-INTERVAL:P3D
CALSCALE:GREGORIAN
BEGIN:VEVENT
DTSTART:20110511T180000Z
DTEND:20110511T200000Z
X-MICROSOFT-CDO-ALLDAYEVENT:FALSE
SUMMARY:LEARN TO DRAW
DESCRIPTION:LEARN TO DRAW\n\n\n\n    * Build basic drawing skills! \n\n    * Gain confidence. Learn to draw what you see!\n\n    * Refine & sharpen your skills!\n\n    * This class is recommended for beginner students! \n\n\n\nMay Class: May 5 - 26\, 2011\n\n\n\nList of recommended supplies provided.\n\nWednesdays\, 1pm - 3pm
X-ALT-DESC;FMTTYPE=text/html:LEARN TO DRAW\n<br>\n<br>    * Build basic drawing skills! \n<br>    * Gain confidence. Learn to draw what you see!\n<br>    * Refine &amp\; sharpen your skills!\n<br>    * This class is recommended for beginner students! \n<br>\n<br>May Class: May 5 - 26\, 2011\n<br>\n<br>List of recommended supplies provided.\n<br>Wednesdays\, 1pm - 3pm
LOCATION:Shelby County Arts Council Studio 104 Mildred St Columbiana AL 35051
UID:e.145.3160
SEQUENCE:3
DTSTAMP:20260426T022204Z
URL:https://business.shelbychamber.org/events/details/learn-to-draw-05-11-2011-3160
END:VEVENT

END:VCALENDAR
