BEGIN:VCALENDAR
VERSION:2.0
PRODID:-//ChamberMaster//Event Calendar 2.0//EN
METHOD:PUBLISH
X-PUBLISHED-TTL:P3D
REFRESH-INTERVAL:P3D
CALSCALE:GREGORIAN
BEGIN:VEVENT
DTSTART:20120403T160000Z
DTEND:20120403T200000Z
X-MICROSOFT-CDO-ALLDAYEVENT:FALSE
SUMMARY:LearningRx Invites you to the Community Autism Resources Forum
DESCRIPTION:LearningRx Birmingham-South invites you to attend the Community Autism Resources Forum with special guests Phil and Amy Parham. The Parhams appeared on "The Biggest Loser" TV show and are parents of a child with autism. If you or your students\, clients\, patients or friends have been affected by autism\, please join us for a life changing day of good news\, hope and information.\n\n\n\nRSVPs are appreciated but not required.\n\n\n\nbirminghamsouth.al@learningrx.net
X-ALT-DESC;FMTTYPE=text/html:LearningRx Birmingham-South invites you to attend the Community Autism Resources Forum with special guests Phil and Amy Parham. The Parhams appeared on &quot\;The Biggest Loser&quot\; TV show and are parents of a child with autism. If you or your students\, clients\, patients or friends have been affected by autism\, please join us for a life changing day of good news\, hope and information.<br />\n<br />\nRSVPs are appreciated but not required.<br />\n<br />\nbirminghamsouth.al@learningrx.net&nbsp\;
LOCATION:North Shelby Library\, 5521 Cahaba Valley Road\, Birmingham\, AL 35242
UID:e.145.3976
SEQUENCE:3
DTSTAMP:20260425T101958Z
URL:https://business.shelbychamber.org/events/details/learningrx-invites-you-to-the-community-autism-resources-forum-04-03-2012-3976
END:VEVENT

END:VCALENDAR
