BEGIN:VCALENDAR
VERSION:2.0
PRODID:-//ChamberMaster//Event Calendar 2.0//EN
METHOD:PUBLISH
X-PUBLISHED-TTL:P3D
REFRESH-INTERVAL:P3D
CALSCALE:GREGORIAN
BEGIN:VEVENT
DTSTART:20121215T140000Z
DTEND:20121215T170000Z
X-MICROSOFT-CDO-ALLDAYEVENT:FALSE
SUMMARY:Legacy for Good Foundation Holiday 5K & Kids Fun Run
DESCRIPTION:Join the Legacy for Good Foundation for the Holiday 5K & Kids Fun Run. Kick Off the Holiday season with a great family event...and support the Christmas Blessing program. The Christmas Blessing program provides nutritious holiday meals to families in need.\n\n\n\nWe will also collect toys in support of Toys for Tots.\n\n\n\nJoin Us and spread Christmas Blessings to those in need.
X-ALT-DESC;FMTTYPE=text/html:Join the <span style="color: #b22222">Legacy for Good Foundation for the Holiday 5K &amp\; Kids Fun Run</span>. Kick Off the Holiday season with a great family event...and support the Christmas Blessing program. The Christmas Blessing program provides nutritious holiday&nbsp\;meals to families in need.<br />\n<br />\nWe will also collect toys in support of <span style="color: #b22222">Toys for Tots.</span><br />\n<br />\nJoin Us and spread Christmas Blessings to those in need. 
LOCATION:Heardmont Park
UID:e.145.4430
SEQUENCE:3
DTSTAMP:20260424T202134Z
URL:https://business.shelbychamber.org/events/details/legacy-for-good-foundation-holiday-5k-kids-fun-run-12-15-2012-4430
END:VEVENT

END:VCALENDAR
