BEGIN:VCALENDAR
VERSION:2.0
PRODID:-//ChamberMaster//Event Calendar 2.0//EN
METHOD:PUBLISH
X-PUBLISHED-TTL:P3D
REFRESH-INTERVAL:P3D
CALSCALE:GREGORIAN
BEGIN:VEVENT
DTSTART:20150403T150000Z
DTEND:20150403T220000Z
X-MICROSOFT-CDO-ALLDAYEVENT:FALSE
SUMMARY:Lego Build Day
DESCRIPTION:Stop by the library anytime between 10 and 5 today to make your very own Lego creations. The library provides the Legos. All Ages Welcome. No registration is required.
X-ALT-DESC;FMTTYPE=text/html:Stop by the library anytime between 10 and 5 today to make your very own Lego creations. The library provides the Legos. All Ages Welcome. No registration is required.
LOCATION:North Shelby Library
UID:e.145.7605
SEQUENCE:3
DTSTAMP:20260423T003002Z
URL:https://business.shelbychamber.org/events/details/lego-build-day-04-03-2015-7605
END:VEVENT

END:VCALENDAR
