BEGIN:VCALENDAR
VERSION:2.0
PRODID:-//ChamberMaster//Event Calendar 2.0//EN
METHOD:PUBLISH
X-PUBLISHED-TTL:P3D
REFRESH-INTERVAL:P3D
CALSCALE:GREGORIAN
BEGIN:VEVENT
DTSTART:20140201T160000Z
DTEND:20140201T173000Z
X-MICROSOFT-CDO-ALLDAYEVENT:FALSE
SUMMARY:Lego Club
DESCRIPTION:The library provides the Legos\, the kids provide the imagination and creativity. Families are welcome to drop in anytime between 10:00 and 11:00 to build spectacular creations. Creations will then go on display in the Children?s Department. All Ages Welcome. No registration is required.
X-ALT-DESC;FMTTYPE=text/html:The library provides the Legos\, the kids provide the imagination and creativity. Families are welcome to drop in anytime between 10:00 and 11:00 to build spectacular creations. Creations will then go on display in the Children?s Department. All Ages Welcome. No registration is required.
LOCATION:North Shelby Library
UID:e.145.5013
SEQUENCE:3
DTSTAMP:20260423T212859Z
URL:https://business.shelbychamber.org/events/details/lego-club-02-01-2014-5013
END:VEVENT

END:VCALENDAR
