BEGIN:VCALENDAR
VERSION:2.0
PRODID:-//ChamberMaster//Event Calendar 2.0//EN
METHOD:PUBLISH
X-PUBLISHED-TTL:P3D
REFRESH-INTERVAL:P3D
CALSCALE:GREGORIAN
BEGIN:VEVENT
DTSTART:20150207T160000Z
DTEND:20150207T170000Z
X-MICROSOFT-CDO-ALLDAYEVENT:FALSE
SUMMARY:Lego Club
DESCRIPTION:The library provides the Legos\, the kids provide the imagination and creativity. Families are welcome to drop in anytime between 10:00 and 11:00 to build spectacular creations. Creations will then go on display in the Children's Department. All Ages Welcome. No registration is required.
X-ALT-DESC;FMTTYPE=text/html:The library provides the Legos\, the kids provide the imagination and creativity. Families are welcome to drop in anytime between 10:00 and 11:00 to build spectacular creations. Creations will then go on display in the Children&rsquo\;s Department. All Ages Welcome. No registration is required.
LOCATION:North Shelby Library
UID:e.145.6766
SEQUENCE:3
DTSTAMP:20260423T034406Z
URL:https://business.shelbychamber.org/events/details/lego-club-02-07-2015-6766
END:VEVENT

END:VCALENDAR
