BEGIN:VCALENDAR
VERSION:2.0
PRODID:-//ChamberMaster//Event Calendar 2.0//EN
METHOD:PUBLISH
X-PUBLISHED-TTL:P3D
REFRESH-INTERVAL:P3D
CALSCALE:GREGORIAN
BEGIN:VEVENT
DTSTART:20150905T150000Z
DTEND:20150905T163000Z
X-MICROSOFT-CDO-ALLDAYEVENT:FALSE
SUMMARY:Lego Club
DESCRIPTION:The library provides the Legos\, the kids provide the imagination and creativity. Families are welcome to drop in anytime between 10:00 and 11:00 to build spectacular creations. Creations will then go on display in the Children's Department. All Ages Welcome. No registration is required.
X-ALT-DESC;FMTTYPE=text/html:<span style="background-color:rgb(238\, 238\, 238)\; color:rgb(51\, 51\, 51)\; font-family:helvetica neue\,helvetica\,arial\,sans-serif\; font-size:13px">The library provides the Legos\, the kids provide the imagination and creativity. Families are welcome to drop in anytime between 10:00 and 11:00 to build spectacular creations. Creations will then go on display in the Children&rsquo\;s Department. All Ages Welcome. No registration is required.</span>
LOCATION:North Shelby Library 5521 Cahaba Valley Rd. Birmingham\, AL 35242
UID:e.145.7816
SEQUENCE:3
DTSTAMP:20260422T171552Z
URL:https://business.shelbychamber.org/events/details/lego-club-09-05-2015-7816
END:VEVENT

END:VCALENDAR
