BEGIN:VCALENDAR
VERSION:2.0
PRODID:-//ChamberMaster//Event Calendar 2.0//EN
METHOD:PUBLISH
X-PUBLISHED-TTL:P3D
REFRESH-INTERVAL:P3D
CALSCALE:GREGORIAN
BEGIN:VEVENT
DTSTART:20151107T160000Z
DTEND:20151107T173000Z
X-MICROSOFT-CDO-ALLDAYEVENT:FALSE
SUMMARY:Lego Club
DESCRIPTION:The library provides the Legos\, the kids provide the imagination and creativity. Families are welcome to drop in anytime between 10:00 and 11:00 to build spectacular creations. Creations will then go on display in the Children's Department. All Ages welcome.  No registration is required.
X-ALT-DESC;FMTTYPE=text/html:The library provides the Legos\, the kids provide the imagination and creativity. Families are welcome to drop in anytime between 10:00 and 11:00 to build spectacular creations. Creations will then go on display in the Children&rsquo\;s Department. <u>All Ages welcome.</u>&nbsp\; <u>No registration is required.</u>
LOCATION:North Shelby Library\, 5521 Cahaba Valley Road\, Birmingham AL 35242
UID:e.145.7952
SEQUENCE:3
DTSTAMP:20260422T153226Z
URL:https://business.shelbychamber.org/events/details/lego-club-11-07-2015-7952
END:VEVENT

END:VCALENDAR
