BEGIN:VCALENDAR
VERSION:2.0
PRODID:-//ChamberMaster//Event Calendar 2.0//EN
METHOD:PUBLISH
X-PUBLISHED-TTL:P3D
REFRESH-INTERVAL:P3D
CALSCALE:GREGORIAN
BEGIN:VEVENT
DTSTART:20160206T160000Z
DTEND:20160206T173000Z
X-MICROSOFT-CDO-ALLDAYEVENT:FALSE
SUMMARY:Lego Club at the North Shelby Library
DESCRIPTION:The library provides the Legos\, the kids provide the imagination and creativity. Families are welcome to drop in anytime between 10:00 and 11:00 to build spectacular creations. Creations will then go on display in the Children's Department. All Ages welcome.  No registration is required.
X-ALT-DESC;FMTTYPE=text/html:<span style="font-family:calibri light\,sans-serif">The library provides the Legos\, the kids provide the imagination and creativity. Families are welcome to drop in anytime between 10:00 and 11:00 to build spectacular creations. Creations will then go on display in the Children&rsquo\;s Department. <u>All Ages welcome.</u>&nbsp\; <u>No registration is required.</u></span>
LOCATION:North Shelby Library\, 5521 Cahaba Valley Road\, Birmingham AL 35242
UID:e.145.8267
SEQUENCE:3
DTSTAMP:20260422T093505Z
URL:https://business.shelbychamber.org/events/details/lego-club-at-the-north-shelby-library-02-06-2016-8267
END:VEVENT

END:VCALENDAR
