BEGIN:VCALENDAR
VERSION:2.0
PRODID:-//ChamberMaster//Event Calendar 2.0//EN
METHOD:PUBLISH
X-PUBLISHED-TTL:P3D
REFRESH-INTERVAL:P3D
CALSCALE:GREGORIAN
BEGIN:VEVENT
DTSTART:20151003T150000Z
DTEND:20151003T163000Z
X-MICROSOFT-CDO-ALLDAYEVENT:FALSE
SUMMARY:Lego Club at the North Shelby Library
DESCRIPTION:The library provides the Legos\, the kids provide the imagination and creativity! Families are welcome to drop in anytime between 10:00 and 11:00 to build spectacular creations. Creations will then go on display in the Children's Department. All ages welcome. No registration is required.
X-ALT-DESC;FMTTYPE=text/html:The library provides the Legos\, the kids provide the imagination and creativity! Families are welcome to drop in anytime between 10:00 and 11:00 to build spectacular creations. Creations will then go on display in the Children&#39\;s Department. All ages welcome. No registration is required.&nbsp\;
LOCATION:North Shelby Library
UID:e.145.7890
SEQUENCE:3
DTSTAMP:20260422T154551Z
URL:https://business.shelbychamber.org/events/details/lego-club-at-the-north-shelby-library-10-03-2015-7890
END:VEVENT

END:VCALENDAR
