BEGIN:VCALENDAR
VERSION:2.0
PRODID:-//ChamberMaster//Event Calendar 2.0//EN
METHOD:PUBLISH
X-PUBLISHED-TTL:P3D
REFRESH-INTERVAL:P3D
CALSCALE:GREGORIAN
BEGIN:VEVENT
DTSTART:20110915T233000Z
DTEND:20110916T023000Z
X-MICROSOFT-CDO-ALLDAYEVENT:FALSE
SUMMARY:Let's Laugh Our Way to a Cure- Comedy Night Benefiting the American Diabetes Asc
DESCRIPTION:On September 15th\, Alacare Home Health and Hospice will host an incredible wrap around event for their team's fundraising goal of $5\,000!  You can come and enjoy this night while helping us fund diabetes research\, education and advocacy!!\n\n	WHO:  Everyone is invited!\n\n	WHAT: Dinner + A comedy benefit: "Let's Laugh Our Way to a Cure: A Night of Comedy Supporting the American Diabetes Association's Step Out Walk to STOP Diabetes Awareness and Fundraising Campaign."\n\n	\n\n	WHEN: September 15\, 2011\, from 6:30-9:30 p.m.\n\n	WHERE:  Embassy Suites Hoover (2960 John Hawkins Parkway).\n\n	WHY ATTEND:  It's going to be an awesome night of entertainment benefiting the ADA!Tonight Show veteran and Birmingham Comedy Competition winner Joe Hobby will headline. The evening will also feature live performances by Clarence Albright and the Force Five Band\, Delon Charlie of the Overflow Jazz Band\, Shei Band and Reginald Bryant.\n\n	HOW:  Tickets prices are $40 per person or $75 per couple.  To purchase tickets or for more information call 205-981-8474.
X-ALT-DESC;FMTTYPE=text/html:<p style="text-align: left\;">\n	On September 15<sup>th</sup>\, Alacare Home Health and Hospice will host an incredible wrap around event for their team&rsquo\;s fundraising goal of $5\,000!&nbsp\; You can come and enjoy this night while helping us fund diabetes research\, education and advocacy!!</p>\n<p style="text-align: left\;">\n	<strong>WHO:&nbsp\;</strong> Everyone is invited!</p>\n<p style="text-align: left\;">\n	<strong>WHAT</strong>: Dinner + A comedy benefit: &ldquo\;Let&rsquo\;s Laugh Our Way to a Cure: A Night of Comedy Supporting the American Diabetes Association&rsquo\;s Step Out Walk to STOP Diabetes Awareness and Fundraising Campaign.&rdquo\;<br />\n	<br />\n	<strong>WHEN:</strong> September 15\, 2011\, from 6:30-9:30 p.m.</p>\n<p style="text-align: left\;">\n	<strong>WHERE:</strong>&nbsp\; Embassy Suites Hoover (2960 John Hawkins Parkway).</p>\n<p style="text-align: left\;">\n	<strong>WHY ATTEND:</strong>&nbsp\; It&rsquo\;s going to be an awesome night of entertainment benefiting the ADA!<em>Tonight Show</em> veteran and Birmingham Comedy Competition winner Joe Hobby will headline. The evening will also feature live performances by Clarence Albright and the Force Five Band\, Delon Charlie of the Overflow Jazz Band\, Shei Band and Reginald Bryant.</p>\n<p style="text-align: left\;">\n	<strong>HOW:&nbsp\;</strong> Tickets prices are $40 per person or $75 per couple. &nbsp\;To purchase tickets or for more information call 205-981-8474.</p>\n
LOCATION:Embassy Suites Hoover (2960 John Hawkins Parkway).
UID:e.145.3511
SEQUENCE:3
DTSTAMP:20260425T201036Z
URL:https://business.shelbychamber.org/events/details/let-s-laugh-our-way-to-a-cure-comedy-night-benefiting-the-american-diabetes-asc-09-15-2011-3511
END:VEVENT

END:VCALENDAR
