BEGIN:VCALENDAR
VERSION:2.0
PRODID:-//ChamberMaster//Event Calendar 2.0//EN
METHOD:PUBLISH
X-PUBLISHED-TTL:P3D
REFRESH-INTERVAL:P3D
CALSCALE:GREGORIAN
BEGIN:VEVENT
DTSTART:20161013T230000Z
DTEND:20161014T001500Z
X-MICROSOFT-CDO-ALLDAYEVENT:FALSE
SUMMARY:Libby Liberty's "In Search of Super Citizens" Interactive Event & Book Signing
DESCRIPTION:Have your children join us to meet the lady in green and to learn about freedom\, liberty\, and how they can become Super Citizens! Books-A-Million presents Libby Liberty for an interactive event and book signing of "In Search of Super Citizens" and "The Patriot's Handbook for Kids" the evening before the kickoffs of the Super Citizen Program in Alabaster and Chelsea schools. Proceeds from book sales help power the Liberty Learning Foundation's mission to teach\, inspire and empower our Next Great Americans.
X-ALT-DESC;FMTTYPE=text/html:Have your children join us to meet the lady in green and to learn about freedom\, liberty\, and how they can become Super Citizens! Books-A-Million presents Libby Liberty for an interactive event and book signing of &ldquo\;In Search of Super Citizens&rdquo\; and &ldquo\;The Patriot&rsquo\;s Handbook for Kids&quot\; the evening before the kickoffs of the Super Citizen Program in Alabaster and Chelsea schools. Proceeds from book sales help power the Liberty Learning Foundation&rsquo\;s mission to teach\, inspire and empower our Next Great Americans.
LOCATION:Books-A-Million Alabaster 300 Colonial Promenade Pkwy Alabaster\, Alabama
UID:e.145.9779
SEQUENCE:3
DTSTAMP:20260421T164828Z
URL:https://business.shelbychamber.org/events/details/libby-liberty-s-in-search-of-super-citizens-interactive-event-book-signing-9779
END:VEVENT

END:VCALENDAR
