BEGIN:VCALENDAR
VERSION:2.0
PRODID:-//ChamberMaster//Event Calendar 2.0//EN
METHOD:PUBLISH
X-PUBLISHED-TTL:P3D
REFRESH-INTERVAL:P3D
CALSCALE:GREGORIAN
BEGIN:VEVENT
DTSTART:20140627T230000Z
DTEND:20140628T010000Z
X-MICROSOFT-CDO-ALLDAYEVENT:FALSE
SUMMARY:Liberty Day Gallery Opening
DESCRIPTION:Gallery opening and reception for artist Scott Owens. Owens will also be creating an original piece during Liberty Day outside on June 28\, 2014 from 10am-2pm.
X-ALT-DESC;FMTTYPE=text/html:Gallery opening and reception for artist Scott Owens. Owens will also be creating an original piece during Liberty Day outside on June 28\, 2014 from 10am-2pm.&nbsp\;
LOCATION:Shelby County Arts Council
UID:e.145.5512
SEQUENCE:3
DTSTAMP:20260423T165141Z
URL:https://business.shelbychamber.org/events/details/liberty-day-gallery-opening-06-27-2014-5512
END:VEVENT

END:VCALENDAR
