BEGIN:VCALENDAR
VERSION:2.0
PRODID:-//ChamberMaster//Event Calendar 2.0//EN
METHOD:PUBLISH
X-PUBLISHED-TTL:P3D
REFRESH-INTERVAL:P3D
CALSCALE:GREGORIAN
BEGIN:VEVENT
DTSTART;VALUE=DATE:20110715
DTEND;VALUE=DATE:20110716
TRANSP:TRANSPARENT
X-MICROSOFT-CDO-ALLDAYEVENT:TRUE
SUMMARY:Lifelong Learning Survey - Community & Business Response Needed
DESCRIPTION:Through a partnership between Shelby County\, The University of Montevallo Department of Continuing Education\, Shelby County Public Libraries and Shelby County Board of Education\, a survey has been developed to gather information concerning the types of lifelong learning opportunities that would most interest and benefit residents in the Shelby County Community.\n\n\n\nDuring these economic times and as citizens of the 21st Century (The Information Age)\, it is important that we all continue to learn new things throughout our lifetime!  We want your citizens to have a voice in the types of learning opportunities that will be offered to the community.\n\n\n\nYou can help by taking the survey (3-5 minutes) and provide your input:\n\n\n\nCommunity (Adult Lifelong Learning Survey): www.surveymonkey.com/s/XY57P82\n\n\n\nBusiness Survey: www.surveymonkey.com/s/8M3YZ72.
X-ALT-DESC;FMTTYPE=text/html:Through a partnership between Shelby County\, The University of Montevallo Department of Continuing Education\, Shelby County Public Libraries and Shelby County Board of Education\, a survey has been developed to gather information concerning the types of lifelong learning opportunities that would most interest and benefit residents in the Shelby County Community.<br />\n<br />\nDuring these economic times and as citizens of the 21st Century (The Information Age)\, it is important that we all continue to learn new things throughout our lifetime!&nbsp\; We want your citizens to have a voice in the types of learning opportunities that will be offered to the community.<br />\n<br />\nYou can help by taking the survey (3-5 minutes) and provide your input:<br />\n<br />\nCommunity (Adult Lifelong Learning Survey): <a href="http://www.surveymonkey.com/s/XY57P82">www.surveymonkey.com/s/XY57P82</a><br />\n<br />\nBusiness Survey: <a href="http://www.surveymonkey.com/s/8M3YZ72">www.surveymonkey.com/s/8M3YZ72</a>.
LOCATION:Online.
UID:e.145.3254
SEQUENCE:3
DTSTAMP:20260426T005637Z
URL:https://business.shelbychamber.org/events/details/lifelong-learning-survey-community-business-response-needed-07-15-2011-3254
END:VEVENT

END:VCALENDAR
