BEGIN:VCALENDAR
VERSION:2.0
PRODID:-//ChamberMaster//Event Calendar 2.0//EN
METHOD:PUBLISH
X-PUBLISHED-TTL:P3D
REFRESH-INTERVAL:P3D
CALSCALE:GREGORIAN
BEGIN:VEVENT
DTSTART:20160524T163000Z
DTEND:20160524T183000Z
X-MICROSOFT-CDO-ALLDAYEVENT:FALSE
SUMMARY:Lunch and Learn - Rental Property and Management Advice for Homeowners
DESCRIPTION:Come and learn if Property Management is a good idea for you. Whether you can't sell your home\, or you are considering investment properties\, we will provide you with information and expertise to generate the revenue you want.\n\n\n\nWith over 80 years of combined knowledge in the Property Management industry\, let our talented team lead you down the proper path towards success. If you are new to the game of rental properties or hoping to gain some knowledge\, we will teach you how the industry is ever-changing and how we keep on top of the changes.\n\n\n\nThere will be free food and door prizes\, so don't forget to register and bring plenty of business cards!
X-ALT-DESC;FMTTYPE=text/html:<br />\nCome and learn if Property Management is a good idea for you. Whether you can&#39\;t sell your home\, or you are considering investment properties\, we will provide you with information and expertise to generate the revenue you want.<br />\n<br />\nWith over 80 years of combined knowledge in the Property Management industry\, let our talented team lead you down the proper path towards success. If you are new to the game of rental properties or hoping to gain some knowledge\, we will teach you how the industry is ever-changing and how we keep on top of the changes.<br />\n<br />\nThere will be free food and door prizes\, so don&#39\;t forget to register and bring plenty of business cards!
LOCATION:ServPro 2000 Huntley Parkway Pelham\, AL 35124
UID:e.145.9513
SEQUENCE:3
DTSTAMP:20260422T062955Z
URL:https://business.shelbychamber.org/events/details/lunch-and-learn-rental-property-and-management-advice-for-homeowners-05-24-2016-9513
END:VEVENT

END:VCALENDAR
