BEGIN:VCALENDAR
VERSION:2.0
PRODID:-//ChamberMaster//Event Calendar 2.0//EN
METHOD:PUBLISH
X-PUBLISHED-TTL:P3D
REFRESH-INTERVAL:P3D
CALSCALE:GREGORIAN
BEGIN:VEVENT
DTSTART:20130208T180000Z
DTEND:20130215T190000Z
X-MICROSOFT-CDO-ALLDAYEVENT:FALSE
SUMMARY:Lunch and Learn @ Shelby County Arts Council
DESCRIPTION:Lunch and Learn \n\n	Education Series at the Shelby County Arts Council\n\n	February Speaker/Artist:  Pat Hall  \n\n	\n\n	Join Artist Pat Hall at the Shelby County Arts Council for a demonstration and lecture of the Art of Watercolor Painting.   From an early age being an artist was Pat''s goal and she won my 1st Honorable Mention in the 3rd grade. In 1982\, she took a watercolor class and fell in love with the medium. The transparent\, luminous\, flowing quality of watercolor is unique and wonderful\, however my personal style tends to be tighter and realistic. If  she has a favorite subject it would be portraits and character studies.\n\n	\n\n	Bring a brown bag lunch and meet your friends for a fun afternoon of learning.
X-ALT-DESC;FMTTYPE=text/html:<h3 style="color: blue">\n	<span style="font-size: 22px"><span style="font-family: tahoma"><strong>Lunch and Learn </strong></span></span><br />\n	<span style="font-size: 22px"><span style="font-family: tahoma"><strong>Education Series at the Shelby County Arts Council<br />\n	February&nbsp\;Speaker/Artist:&nbsp\; Pat Hall </strong></span></span>&nbsp\;<br />\n	<br />\n	Join Artist Pat Hall at the Shelby County Arts Council for a demonstration and lecture of the Art of Watercolor Painting.&nbsp\;&nbsp\; From an early age being an artist was Pat&#39\;&#39\;s&nbsp\;goal and she&nbsp\;won my 1st Honorable Mention in the 3rd grade. In 1982\, she&nbsp\;took a watercolor class and fell in love with the medium. The transparent\, luminous\, flowing quality of watercolor is unique and wonderful\, however my personal style tends to be tighter and realistic. If&nbsp\; she has a favorite subject it would be portraits and character studies.<br />\n	<br />\n	Bring a brown bag lunch and meet your friends for a fun afternoon of learning.&nbsp\;</h3>\n
LOCATION:Shelby County Arts Council \, 104 MIldred Street \, Columbiana\, Al 35051
UID:e.145.4500
SEQUENCE:3
DTSTAMP:20260424T171643Z
URL:https://business.shelbychamber.org/events/details/lunch-and-learn-shelby-county-arts-council-02-08-2013-4500
END:VEVENT

END:VCALENDAR
