BEGIN:VCALENDAR
VERSION:2.0
PRODID:-//ChamberMaster//Event Calendar 2.0//EN
METHOD:PUBLISH
X-PUBLISHED-TTL:P3D
REFRESH-INTERVAL:P3D
CALSCALE:GREGORIAN
BEGIN:VEVENT
DTSTART:20160519T164500Z
DTEND:20160519T180000Z
X-MICROSOFT-CDO-ALLDAYEVENT:FALSE
SUMMARY:Lunch & Learn: "Understanding your HOA/Condo Governing Documents"
DESCRIPTION:Please join us at our May Chapter Lunch & Learn\n\nat the Hoover Country Club!\n\n\n\nTopic: Understanding your HOA/Condo Governing Documents\n\n\n\nSpeaker: Steve Casey\, Jones Walker LLC\n\n\n\nRegistration and Networking begins at 11:45pm.\n\nLunch and program starts at 12:00pm and concludes at 1:00pm.\n\n\n\n$20.00 for members | $30.00 for non-members\n\n\n\nOnline registration closes on Monday\,\n\nMay 16\, 2016 at  6pm.\n\n\n\nFollow this link for online registration.
X-ALT-DESC;FMTTYPE=text/html:<p style="text-align:center"><span style="color:black\; font-family:verdana\,sans-serif\; font-size:8.0pt">Please join us at our May Chapter Lunch &amp\; Learn<br>\nat the Hoover Country Club!<br>\n<br>\n<strong><span style="font-family:verdana\,sans-serif">Topic: Understanding your HOA/Condo Governing Documents</span></strong><br>\n<br>\n<strong><strong><span style="font-family:verdana\,sans-serif">Speaker: Steve Casey\, Jones Walker LLC</span></strong></strong><br>\n<br>\nRegistration and Networking begins at&nbsp\;11:45pm.<br>\nLunch&nbsp\;and program starts at 12:00pm and concludes at 1:00pm.<br>\n<br>\n$20.00 for members | $30.00 for non-members</span><br>\n<br>\n<span style="color:black\; font-family:verdana\,sans-serif\; font-size:8.0pt"><a href="https://www.eventbrite.com/e/cai-al-chapter-luncheon-understanding-your-hoacondo-governing-documents-tickets-24460190087">Online registration</a> closes on Monday\,<br>\nMay 16\, 2016 at&nbsp\; 6pm.<br>\n<br>\n<a href="https://www.eventbrite.com/e/cai-al-chapter-luncheon-understanding-your-hoacondo-governing-documents-tickets-24460190087">Follow this link for online registration</a>.</span></p>\n
LOCATION:Hoover Country Club 3140 Country Club Drive Hoover\, AL 35226
UID:e.145.9515
SEQUENCE:3
DTSTAMP:20260422T060708Z
URL:https://business.shelbychamber.org/events/details/lunch-learn-understanding-your-hoa-condo-governing-documents-05-19-2016-9515
END:VEVENT

END:VCALENDAR
