BEGIN:VCALENDAR
VERSION:2.0
PRODID:-//ChamberMaster//Event Calendar 2.0//EN
METHOD:PUBLISH
X-PUBLISHED-TTL:P3D
REFRESH-INTERVAL:P3D
CALSCALE:GREGORIAN
BEGIN:VEVENT
DTSTART:20161103T230000Z
DTEND:20161104T010000Z
X-MICROSOFT-CDO-ALLDAYEVENT:FALSE
SUMMARY:Lynn Dodson Solo Art Exhibit "Doors of my Art" Opening Reception
DESCRIPTION:Local artist Lynn Dodson celebrates 10 years teaching classes at the Shelby County Arts Council with her solo show\, "Doors of My Art".\n\n\n\nDodson\, who grew up in Shelby County\, will display works that feature her love for painting\, which she first became interested in as a teenager. She graduated from the University of Montevallo with a Bachelors in Fine Arts and has worked as a freelance artist ever since.\n\n\n\n"I hope everyone will come out to the opening\," says Dodson. "I've worked hard to deliver a body of work that will hopefully be exciting to experience! Who knows\, it might even spark you to sign up for a class!"\n\n\n\nCome see the paintings and meet the artist at this opening\, Nov. 3 from 6-8\, including a small reception. This is a free event!
X-ALT-DESC;FMTTYPE=text/html:<span style="background-color:rgb(255\, 255\, 255)\; font-family:benton sans\,arial\,sans-serif\; font-size:14px">Local artist Lynn Dodson celebrates 10 years teaching classes at the Shelby County Arts Council with her solo show\, &quot\;Doors of My Art&quot\;.<br />\n<br />\nDodson\, who grew up in Shelby County\, will display works that feature her love for painting\, which she first became interested in as a teenager. She graduated from the University of Montevallo with a Bachelors in Fine Arts and has worked as a freelance artist ever since.<br />\n<br />\n&quot\;I hope everyone will come out to the opening\,&rdquo\; says Dodson. &ldquo\;I&#39\;ve worked hard to deliver a body of work that will hopefully be exciting to experience! Who knows\, it might even spark you to sign up for a class!&rdquo\;<br />\n<br />\nCome see the paintings and meet the artist at this opening\, Nov. 3 from 6-8\, including a small reception. This is a free event!</span>\n\n<div>&nbsp\;</div>\n
LOCATION:Shelby County Arts Council Gallery 104 Mildred Street\, Columbiana\, AL 35051
UID:e.145.9787
SEQUENCE:3
DTSTAMP:20260421T151535Z
URL:https://business.shelbychamber.org/events/details/lynn-dodson-solo-art-exhibit-doors-of-my-art-opening-reception-9787
END:VEVENT

END:VCALENDAR
