BEGIN:VCALENDAR
VERSION:2.0
PRODID:-//ChamberMaster//Event Calendar 2.0//EN
METHOD:PUBLISH
X-PUBLISHED-TTL:P3D
REFRESH-INTERVAL:P3D
CALSCALE:GREGORIAN
BEGIN:VEVENT
DTSTART;VALUE=DATE:20110430
DTEND;VALUE=DATE:20110501
TRANSP:TRANSPARENT
X-MICROSOFT-CDO-ALLDAYEVENT:TRUE
SUMMARY:#M602 VIOLIN LESSONS - MAY - AUGUST Lessons
DESCRIPTION:Classical training provided.  Learn music theory and technique.  Private lessons available on Mondays for youth and adults.
X-ALT-DESC;FMTTYPE=text/html:Classical training provided.  Learn music theory and technique.  Private lessons available on Mondays for youth and adults.  
LOCATION:North Shelby Library -Hoover
UID:e.145.2555
SEQUENCE:3
DTSTAMP:20260426T034936Z
URL:https://business.shelbychamber.org/events/details/m602-violin-lessons-may-august-lessons-04-30-2011-2555
END:VEVENT

END:VCALENDAR
