BEGIN:VCALENDAR
VERSION:2.0
PRODID:-//ChamberMaster//Event Calendar 2.0//EN
METHOD:PUBLISH
X-PUBLISHED-TTL:P3D
REFRESH-INTERVAL:P3D
CALSCALE:GREGORIAN
BEGIN:VEVENT
DTSTART:20130316T150000Z
DTEND:20130316T170000Z
X-MICROSOFT-CDO-ALLDAYEVENT:FALSE
SUMMARY:Maggie's Glen Hike
DESCRIPTION:Meet at the North Trailhead for a hike to Maggie's Glen. 3 and half mile walk\, easy to moderate terrain. Dress for the weather and bring water. Well behaved\, leashed pets are welcome on this hike.
X-ALT-DESC;FMTTYPE=text/html:Meet at the North Trailhead for a hike to Maggie&rsquo\;s Glen. 3 and half mile walk\, easy to moderate terrain. Dress for the weather and bring water. Well behaved\, leashed pets are welcome on this hike. 
LOCATION:Oak Mountain State Park - North trailhead
UID:e.145.4510
SEQUENCE:3
DTSTAMP:20260424T153321Z
URL:https://business.shelbychamber.org/events/details/maggie-s-glen-hike-03-16-2013-4510
END:VEVENT

END:VCALENDAR
