BEGIN:VCALENDAR
VERSION:2.0
PRODID:-//ChamberMaster//Event Calendar 2.0//EN
METHOD:PUBLISH
X-PUBLISHED-TTL:P3D
REFRESH-INTERVAL:P3D
CALSCALE:GREGORIAN
BEGIN:VEVENT
DTSTART:20150608T170000Z
DTEND:20150612T170000Z
X-MICROSOFT-CDO-ALLDAYEVENT:FALSE
SUMMARY:Magic Moments Fundraiser
DESCRIPTION:I'm working with a non-profit called Magic Moments that fulfills the non-medical wishes of Alabama children. This year we are trying to raise money for a little girl named Marley from Pelham who has spent most of her life paralyzed from the chest down. If you're able\, please visit the fundraising page below and give what you can.\n\n\n\nAny amount is appreciated and all proceeds are going to fund a special trip for Marley as well as help other children in the Alabama area.\n\n\n\nDonations are tax deductible.\n\n\n\nThank you in advance and let's get this girl to Disney World! Forrest Langston -- http://www.firstgiving.com/fundraiser/ForrestLangston/2015-e-campaign-for-Magic-Moments
X-ALT-DESC;FMTTYPE=text/html:I&#39\;m working with a non-profit called Magic Moments that fulfills the non-medical wishes of Alabama children. This year we are trying to raise money for a little girl named Marley from Pelham who has spent most of her life paralyzed from the chest down. If you&#39\;re able\, please visit the fundraising page below and give what you can.<br />\n<br />\nAny amount is appreciated and all proceeds are going to fund a special trip for Marley as well as help other children in the Alabama area.<br />\n<br />\nDonations are tax deductible.<br />\n<br />\nThank you in advance and let&#39\;s get this girl to Disney World! Forrest Langston -- <a href="http://www.firstgiving.com/fundraiser/ForrestLangston/2015-e-campaign-for-Magic-Moments">http://www.firstgiving.com/fundraiser/ForrestLangston/2015-e-campaign-for-Magic-Moments</a>
LOCATION:
UID:e.145.7711
SEQUENCE:3
DTSTAMP:20260422T225537Z
URL:https://business.shelbychamber.org/events/details/magic-moments-fundraiser-06-08-2015-7711
END:VEVENT

END:VCALENDAR
