BEGIN:VCALENDAR
VERSION:2.0
PRODID:-//ChamberMaster//Event Calendar 2.0//EN
METHOD:PUBLISH
X-PUBLISHED-TTL:P3D
REFRESH-INTERVAL:P3D
CALSCALE:GREGORIAN
BEGIN:VEVENT
DTSTART:20160719T190000Z
DTEND:20160719T203000Z
X-MICROSOFT-CDO-ALLDAYEVENT:FALSE
SUMMARY:Make Your Own Olympic Medal Craft
DESCRIPTION:Drop in anytime between 2:00   3:30. All ages welcome. Registration required. Registration begins 1 week prior to craft date.
X-ALT-DESC;FMTTYPE=text/html:<span style="font-family:calibri light\,sans-serif">Drop in anytime between 2:00 &ndash\; 3:30. All ages welcome. Registration required. Registration begins 1 week prior to craft date.</span>
LOCATION:North Shelby Library 5521 Cahaba Valley Road Birmingham\, AL 35242
UID:e.145.9606
SEQUENCE:3
DTSTAMP:20260422T013444Z
URL:https://business.shelbychamber.org/events/details/make-your-own-olympic-medal-craft-07-19-2016-9606
END:VEVENT

END:VCALENDAR
