BEGIN:VCALENDAR
VERSION:2.0
PRODID:-//ChamberMaster//Event Calendar 2.0//EN
METHOD:PUBLISH
X-PUBLISHED-TTL:P3D
REFRESH-INTERVAL:P3D
CALSCALE:GREGORIAN
BEGIN:VEVENT
DTSTART:20151013T230000Z
DTEND:20151014T000000Z
X-MICROSOFT-CDO-ALLDAYEVENT:FALSE
SUMMARY:Making Friends with Money: Help for Navigating Life's Crossroads
DESCRIPTION:Are you at a Crossroads in your life?\n\n(divorce\, baby\, career change\, kids leaving home\, illness\, loss of a loved one\, deployment...)\n\n\n\nThese changes turn our world upside down\, and have big impacts on our financial lives.\n\n\n\nYou don't have to figure it all out alone.\n\n\n\nCome to this one-hour workshop to learn new tools to help you navigate the Big Life Changes with grace\, money smarts\, and a heaping dose of self-compassion.\n\n\n\nPresented by:Sharron Swain\n\nSharron is a Money + Life Coach who loves helping people feel calm\, clear and confident about money. She's been engaged in "mindful money work" for the past decade and adores creating spaces where people feel safe enough to heal the hard stuff. When she's not chasing her two little boys\, or growing tasty veggies in her garden\, she writes at sharronswain.com\n\n\n\nFree Event but Registration is Required\n\nRegister here or call the North Shelby Library at 205.439.5510 to register.
X-ALT-DESC;FMTTYPE=text/html:<strong>Are you at a Crossroads in your life?</strong><br />\n(divorce\, baby\, career change\, kids leaving home\, illness\, loss of a loved one\, deployment...)<br />\n<br />\nThese changes turn our world upside down\, and have <em>big impacts</em> on our financial lives.<br />\n<br />\nYou don&#39\;t have to figure it all out alone.<br />\n<br />\nCome to this one-hour workshop to learn new tools to help you navigate the Big Life Changes with grace\, money smarts\, and a heaping dose of self-compassion.<br />\n<br />\n<strong>Presented by:Sharron Swain</strong><br />\nSharron is a Money + Life Coach who loves helping people feel calm\, clear and confident about money. She&#39\;s been engaged in &quot\;mindful money work&quot\; for the past decade and adores creating spaces where people feel safe enough to heal the hard stuff. When she&#39\;s not chasing her two little boys\, or growing tasty veggies in her garden\, she writes at sharronswain.com<br />\n<br />\n<span style="color:#FF0000">Free Event but Registration is Required</span><br />\n<a href="http://northshelbylibrary.evanced.info/signup/EventDetails.aspx?EventId=3656&amp\;lib=">Register here</a> or call the North Shelby Library at 205.439.5510 to register.<br />\n<br />\n<br />\n&nbsp\;
LOCATION:North Shelby Library | Meeting Room
UID:e.145.7837
SEQUENCE:3
DTSTAMP:20260422T154551Z
URL:https://business.shelbychamber.org/events/details/making-friends-with-money-help-for-navigating-life-s-crossroads-10-13-2015-7837
END:VEVENT

END:VCALENDAR
