BEGIN:VCALENDAR
VERSION:2.0
PRODID:-//ChamberMaster//Event Calendar 2.0//EN
METHOD:PUBLISH
X-PUBLISHED-TTL:P3D
REFRESH-INTERVAL:P3D
CALSCALE:GREGORIAN
BEGIN:VEVENT
DTSTART:20161002T223000Z
DTEND:20161003T010000Z
X-MICROSOFT-CDO-ALLDAYEVENT:FALSE
SUMMARY:Marc Phillips Black Box Theatre Performance
DESCRIPTION:Local musician Marc Phillips presents his new album\, "abunDance"\, October 2 in the Shelby County Arts Council Black Box Theatre. Music will begin at 6pm\, with doors opening at 5:30. General admission is $20\, and reserved seating is available for SCAC members.
X-ALT-DESC;FMTTYPE=text/html:<p><strong><span style="background-color:transparent\; color:rgb(0\, 0\, 0)\; font-family:calibri\; font-size:14.66px">Local musician Marc Phillips presents his new album\, &quot\;abunDance&quot\;\, October 2 in the Shelby County Arts Council Black Box Theatre. Music will begin at 6pm\, with doors opening at 5:30. General admission is $20\, and reserved seating is available for </span><span style="background-color:rgb(255\, 255\, 255)\; color:rgb(0\, 0\, 0)\; font-family:arial\; font-size:12px">SCAC members.</span></strong></p>\n<br />\n&nbsp\;
LOCATION:Shelby County Arts Council Black Box Theatre Performance Space 104 Mildred Street Columbiana\, AL 35051
UID:e.145.9734
SEQUENCE:3
DTSTAMP:20260421T164439Z
URL:https://business.shelbychamber.org/events/details/marc-phillips-black-box-theatre-performance-9734
END:VEVENT

END:VCALENDAR
